BEGIN:VCALENDAR
VERSION:2.0
PRODID:-//Manuvision - ECPv6.13.2.1//NONSGML v1.0//EN
CALSCALE:GREGORIAN
METHOD:PUBLISH
X-WR-CALNAME:Manuvision
X-ORIGINAL-URL:https://manuvision.dk
X-WR-CALDESC:Begivenheder for Manuvision
REFRESH-INTERVAL;VALUE=DURATION:PT1H
X-Robots-Tag:noindex
X-PUBLISHED-TTL:PT1H
BEGIN:VTIMEZONE
TZID:Europe/Copenhagen
BEGIN:DAYLIGHT
TZOFFSETFROM:+0100
TZOFFSETTO:+0200
TZNAME:CEST
DTSTART:20260329T010000
END:DAYLIGHT
BEGIN:STANDARD
TZOFFSETFROM:+0200
TZOFFSETTO:+0100
TZNAME:CET
DTSTART:20261025T010000
END:STANDARD
END:VTIMEZONE
BEGIN:VEVENT
DTSTART;TZID=Europe/Copenhagen:20260420T173000
DTEND;TZID=Europe/Copenhagen:20260420T190000
DTSTAMP:20260420T121819
CREATED:20250521T103605Z
LAST-MODIFIED:20260120T133056Z
UID:10004799-1776706200-1776711600@manuvision.dk
SUMMARY:Manuvision træning v. Kristoffer G. Kjær
DESCRIPTION:Manuvision Træning i København\nHvis du ikke har trænet hos os før\, er du altid velkommen til en gratis prøvetime. Du dukker bare op og fortæller træneren at du er ny. \nMød dig selv til en omgang kropsterapeutisk træning og genopdag de steder i kroppen du havde glemt. Træningen bunder i karate\, yoga og ikke mindst Manuvision Kropsterapi. Denne treenighed gør det muligt for os at åbne kroppen og sætte den fri\, mens vi bliver stærke og smidige. Oplev den samme træning som Håndboldherrerne får under turneringerne\, men som er velegnet til alle\, uanset forudsætninger. Kom og træn i dit eget tempo\, uden at sammenligne dig selv med sidemanden. Efter den første time og en lille vandpause hjælper vi hinanden med massage og dybe stræk.
URL:https://manuvision.dk/begivenhed/manuvision-traening-v-kristoffer-g-kjaer/2026-04-20/
LOCATION:Manuvision København\, Bernhard Bangs Allé 25-27\, Frederiksberg C\, Storkøbenhavn\, 2000\, Denmark
CATEGORIES:Træning
ATTACH;FMTTYPE=image/jpeg:https://manuvision.dk/wp-content/uploads/TraeningKristoffer.jpg
ORGANIZER;CN="Manuvision":MAILTO:info@manuvision.dk
END:VEVENT
BEGIN:VEVENT
DTSTART;TZID=Europe/Copenhagen:20260421T090000
DTEND;TZID=Europe/Copenhagen:20260421T103000
DTSTAMP:20260420T121819
CREATED:20250319T114118Z
LAST-MODIFIED:20250625T074745Z
UID:10000061-1776762000-1776767400@manuvision.dk
SUMMARY:Manuvision træning v. Mette Steen
DESCRIPTION:Manuvision Træning i København\nHvis du ikke har trænet hos os før\, er du altid velkommen til en gratis prøvetime. Du dukker bare op og fortæller træneren at du er ny. Få rabat med klippekort. Læs mere \nMettes træning er som en Manuvision behandling\, du udfører på dig selv! Sammen skaber vi et terapeutisk rum hvor den ydre krop trænes\, men i høj grad også den indre. I modsætning til mange typer træning\, arbejder vi her med udvidelsen af vores ”core”-muskulatur\, frem for sammentrækningen. Det er her vi finder fodfæste. Vi leger med tempo og humør\, åbner åndedrættet\, kommer ned i kroppen og går mere autentisk ud i verden. \nMaria Girotti er vikar for Mette. \nLæs mere: Holdbeskrivelser \nPriser\nPris pr. gang: 150 kr.\nKlippekort (10 klip): 1300 kr.\nKlippekort for studerende (10 klip): 1000 kr. ved fremvisning af studiekort \nBetaling\nDu betaler med mobilepay hos træneren\, når du møder op. Træner du med klippekort\, vil klippekortet blive opbevaret hos trænerne.
URL:https://manuvision.dk/begivenhed/traening-mette-og-maria/2026-04-21/
LOCATION:Manuvision København\, Bernhard Bangs Allé 25-27\, Frederiksberg C\, Storkøbenhavn\, 2000\, Denmark
CATEGORIES:Træning
ATTACH;FMTTYPE=image/jpeg:https://manuvision.dk/wp-content/uploads/TraeningMette.jpg
ORGANIZER;CN="Manuvision":MAILTO:info@manuvision.dk
END:VEVENT
BEGIN:VEVENT
DTSTART;TZID=Europe/Copenhagen:20260422T093000
DTEND;TZID=Europe/Copenhagen:20260422T110000
DTSTAMP:20260420T121819
CREATED:20250327T082719Z
LAST-MODIFIED:20250625T074626Z
UID:10000322-1776850200-1776855600@manuvision.dk
SUMMARY:ONLINE: Manuvision træning v. Torben Svendsen
DESCRIPTION:Du kan træne med hjemme fra stuen med Torben Svendsen hver onsdag kl. 9.30 – 11. \nDet koster 95 kr. og foregår via zoom\, hvor du skal indtaste følgende oplysninger: Meeting ID: 577 961 7496 og kode: 2021 \nBetaling foregår via mobile pay 907018\, og kvittering vises til Torben på skærmen.
URL:https://manuvision.dk/begivenhed/online-manuvision-traening-v-torben-svendsen/2026-04-22/
CATEGORIES:Træning
ATTACH;FMTTYPE=image/jpeg:https://manuvision.dk/wp-content/uploads/yt3.jpg
ORGANIZER;CN="Manuvision":MAILTO:info@manuvision.dk
LOCATION:
END:VEVENT
BEGIN:VEVENT
DTSTART;TZID=Europe/Copenhagen:20260422T093000
DTEND;TZID=Europe/Copenhagen:20260422T110000
DTSTAMP:20260420T121819
CREATED:20250515T113229Z
LAST-MODIFIED:20250701T151824Z
UID:10004010-1776850200-1776855600@manuvision.dk
SUMMARY:Manuvision træning v. Torben Svendsen
DESCRIPTION:Manuvision Træning i København\nHvis du ikke har trænet hos os før\, er du altid velkommen til en gratis prøvetime. Du dukker bare op og fortæller træneren at du er ny. \nMød dig selv til en omgang kropsterapeutisk træning og genopdag de steder i kroppen du havde glemt. Træningen bunder i karate\, yoga og ikke mindst Manuvision Kropsterapi. Denne treenighed gør det muligt for os at åbne kroppen og sætte den fri\, mens vi bliver stærke og smidige. Oplev den samme træning som Håndboldherrerne får under turneringerne\, men som er velegnet til alle\, uanset forudsætninger. Kom og træn i dit eget tempo\, uden at sammenligne dig selv med sidemanden. Efter den første time og en lille vandpause hjælper vi hinanden med massage og dybe stræk.
URL:https://manuvision.dk/begivenhed/manuvision-traening-v-torben-svendsen/2026-04-22/
LOCATION:Manuvision København\, Bernhard Bangs Allé 25-27\, Frederiksberg C\, Storkøbenhavn\, 2000\, Denmark
CATEGORIES:Træning
ATTACH;FMTTYPE=image/jpeg:https://manuvision.dk/wp-content/uploads/TraeningTorben.jpg
ORGANIZER;CN="Manuvision":MAILTO:info@manuvision.dk
END:VEVENT
BEGIN:VEVENT
DTSTART;TZID=Europe/Copenhagen:20260422T173000
DTEND;TZID=Europe/Copenhagen:20260422T190000
DTSTAMP:20260420T121819
CREATED:20250327T112350Z
LAST-MODIFIED:20260209T124349Z
UID:10000586-1776879000-1776884400@manuvision.dk
SUMMARY:Manuvision træning v. Gitte Dons
DESCRIPTION:Manuvision Træning i København\nHvis du ikke har trænet hos os før\, er du altid velkommen til en gratis prøvetime. Du dukker bare op og fortæller træneren at du er ny. Få rabat med klippekort. Læs mere \n\n\nPå dette træningshold skaber vi kontakt til os selv gennem bevægelse af hele kroppen. Vi arbejder i dybden med alle led via styrkeøvelser og smidighedsøvelser med det formål at opleve en større lethed og frihed i vores krop. \nTræningen er rolig og grundig\, og vi har nærvær og bevidsthed med ind i øvelserne. På den måde bliver det muligt at mærke\, hvad der rører sig i os undervejs. Vi arbejder med holdning og balance og så træner vi også en bevidsthed om reaktionerne fra vores nervesystem. \nUdover Manuvision træningens grundøvelser inddrager jeg også øvelser fra Yoga\, Chi Gong og Mensendieck gymnastikken\, som er de træningsformer\, jeg selv har trænet gennem mit liv. Alle kan være med\, og vi kan mere når vi træner sammen.
URL:https://manuvision.dk/begivenhed/manuvision-traening-v-sara-saxild/2026-04-22/
LOCATION:Manuvision København\, Bernhard Bangs Allé 25-27\, Frederiksberg C\, Storkøbenhavn\, 2000\, Denmark
CATEGORIES:Begivenheder,Træning
ATTACH;FMTTYPE=image/jpeg:https://manuvision.dk/wp-content/uploads/Gitte-1.jpg
ORGANIZER;CN="Manuvision":MAILTO:info@manuvision.dk
END:VEVENT
BEGIN:VEVENT
DTSTART;TZID=Europe/Copenhagen:20260423T170000
DTEND;TZID=Europe/Copenhagen:20260423T183000
DTSTAMP:20260420T121819
CREATED:20250327T113534Z
LAST-MODIFIED:20260120T150614Z
UID:10001108-1776963600-1776969000@manuvision.dk
SUMMARY:Manuvision træning v. Lene Ege og Marianne Bachmann
DESCRIPTION:Manuvision Træning i København\nHvis du ikke har trænet hos os før\, er du altid velkommen til en gratis prøvetime. Du dukker bare op og fortæller træneren at du er ny. Få rabat med klippekort Læs mere \n\n\nI træningen arbejder vi med de samme aspekter\, som vi arbejder med i en kropsterapeutisk behandling. Overordnet handler det om at styrke vores krop og lære den bedre at kende. Når vi bliver bedre til at sanse kroppen\, kan vi opnå fortrolighed med alle de fornemmelser og følelser\, der hele tiden opstår. Dermed mister de deres magt til at styre vores reaktioner uden\, at vi opdager det. Når vi er i stand til at være kropsbevidste\, har vi muligheden for at vælge nye måder at reagere på i de situationer\, der plejer at trigge vores auto-respons. Det giver frihed\, ro og følelsen af at hvile bedre i sig selv. \nFølgende elementer indgår i træningen: \n\nSmidighed og styrke i krop og sind.\nKropsbevidsthed – led og balance\nÅndedrættet – Gennem temposkift undersøger vi åndedrættet – hvordan trækker vi vejret i hvile\, under belastning og når vi koncentrerer os?\nNervesystemet – blive klogere vores automatiske reaktioner.\nGrænser – sige til og sige fra både overfor andre og overfor sig selv. Nærvær med kroppen. Tage sin plads i rummet. Give plads til følelser\, hvis de dukker op.\nTerapeutisk/mindset – Styrker forbindelsen mellem det\, vi mærker\, det\, vi tænker\, og det vi ønsker. Skaber bevidsthed om vores forsvarsstrategier og kroppens måder at reagere på
URL:https://manuvision.dk/begivenhed/manuvision-traening-v-lene-ege-og-marianne-bachmann/2026-04-23/
LOCATION:Manuvision København\, Bernhard Bangs Allé 25-27\, Frederiksberg C\, Storkøbenhavn\, 2000\, Denmark
CATEGORIES:Begivenheder,Træning
ATTACH;FMTTYPE=image/jpeg:https://manuvision.dk/wp-content/uploads/Lene-og.jpg
ORGANIZER;CN="Manuvision":MAILTO:info@manuvision.dk
END:VEVENT
BEGIN:VEVENT
DTSTART;TZID=Europe/Copenhagen:20260429T163000
DTEND;TZID=Europe/Copenhagen:20260429T200000
DTSTAMP:20260420T121819
CREATED:20260303T123424Z
LAST-MODIFIED:20260305T131406Z
UID:10005169-1777480200-1777492800@manuvision.dk
SUMMARY:Neurodivergens - mellem krop\, sanser og samfund: Foredrag / workshop med antropolog Christian Groes og kropsterapeut Ida Sand
DESCRIPTION:Hvordan mærkes neurodivergens i kroppen? Og hvad sker der\, når vi forsøger at passe ind i rammer\, der ikke er skabt til vores sanser\, tempo og nervesystem? \nAntropolog og forfatter Christian Groes og Manuvision kropsterapeut Ida Sand inviterer til en fælles undersøgelse af neurodivergens – ikke som diagnose\, men som en kropslig\, sanselig og social erfaring. \nWorkshoppen henvender sig til alle\, der er nysgerrige på samspillet mellem krop\, psyke og samfund – både neurodivergente (fx ADHD\, autisme\, høj sensitivitet m.m.)\, pårørende\, fagpersoner og undervisere. \nAftenen giver deltagerne viden\, værktøjer og et sprog for det\, mange mærker\, men har haft svært ved at forklare. \nTid: Onsdag d. 29. april kl. 16.30-20\nPris: 400 kr.\nVi serverer sandwich og lidt at drikke inkluderet i prisen.\nTilmelding: Du tilmelder dig ved skrive til kropsterapi@idasand.dk og indbetale på MobilePay 774469 \nINDHOLD\nDen neurodivergente krop\nIda Sand introducerer til den neurodivergente krop med udgangspunkt i sin erfaring som kropsterapeut. Med afsæt i arbejdet med nervesystemet undersøger Ida\, hvad der sker\, når et menneske presser sig selv væk fra sin naturlige disposition – og hvordan stress\, uro og overbelastning ofte opstår i mødet mellem krop og krav. \nDer vil være særligt fokus på det sociale nervesystem samt på sansning og bevidsthed i nuet\, balance\, autonomi og selvforståelse. \nNeurodivergens i et normalsamfund\nChristian Groes tager afsæt i sin bog Vi er alle anderledes. Neurodivergent i et normalsamfund og udfolder neurodivergens i et samfundsperspektiv. Hvorfor bliver så mange mennesker syge i de rammer\, vi har skabt? Og hvordan kan vi genfinde\, hvem vi er\, og anerkende\, værdsætte og hele vores sansesystemer? \nSamtale og fælles refleksion\nAftenen afsluttes med en åben samtale\, spørgsmål fra salen og fælles refleksioner. Idas kropslige erfaringer og Christians teorier flettes sammen i et rum\, hvor alle inviteres ind med deres egne oplevelser og spørgsmål. \nFormålet er at udvide samtalen om neurodivergens og skabe genkendelse\, forståelse og fællesskab – så neurodivergente ikke føler sig alene\, og så vi sammen kan undersøge\, hvordan vi kan være sammen på mere meningsfulde og hensigtsmæssige måder. \n“Vi har brug for at vende det hele på hovedet for at forstå den neurodivergente krop – vi må starte med måden\, vi taler sammen” – Ida Sand \n“Et menneskesyn\, hvor neurodiversitet i hjernen forstås ligesom biodiversitet i naturen. Neurodivergente træk blev oprindeligt set som værdifulde varianter\, man skulle værne om – ligesom naturens økosystem” – Christian Groes \nIda Sand er Manuvision kropsterapeut med speciale i Adhd. Christian Groes er antropolog\, forsker og forfatter til bogen “Vi er alle anderledes”
URL:https://manuvision.dk/begivenhed/neurodivergens/
LOCATION:Manuvision København\, Bernhard Bangs Allé 25-27\, Frederiksberg C\, Storkøbenhavn\, 2000\, Denmark
CATEGORIES:Begivenheder,Kurser & workshops
ATTACH;FMTTYPE=image/jpeg:https://manuvision.dk/wp-content/uploads/Foredrag.jpg
ORGANIZER;CN="Manuvision":MAILTO:info@manuvision.dk
END:VEVENT
BEGIN:VEVENT
DTSTART;TZID=Europe/Copenhagen:20260527T170000
DTEND;TZID=Europe/Copenhagen:20260527T193000
DTSTAMP:20260420T121819
CREATED:20260323T141604Z
LAST-MODIFIED:20260323T142133Z
UID:10005177-1779901200-1779910200@manuvision.dk
SUMMARY:Introaften - Manuvisions kropsterapi uddannelse København
DESCRIPTION:KOM TIL GRATIS INTROAFTEN OM MANUVISION UDDANNELSEN – holdstart januar 2027\nBliv klogere på\, hvordan krop og psyke hænger sammen.\nHør\, hvordan du bliver en dygtig kropsterapeut\, og hvordan vi ruster dig til en karriere som Manuvision kropsterapeut.\nSe\, hvordan vi arbejder med fysiske og psykiske udfordringer gennem kroppen.\nMød vores undervisere og få et indtryk af Manuvision huset\, hvor vi underviser\, behandler og træner.\nHvis du bliver efter mødet\, har du mulighed for at komme på briksen hos en af vores elever og få en forsmag på Manuvision kropsterapi. \nIntroaftenen er gratis\, men tilmelding er nødvendigt\, da vi har et begrænset antal pladser. \nVi serverer et let måltid og drikke undervejs. \nLæs mere om introaftener her.
URL:https://manuvision.dk/begivenhed/introaften-koebenhavn/2026-05-27/
LOCATION:Manuvision København\, Bernhard Bangs Allé 25-27\, Frederiksberg C\, Storkøbenhavn\, 2000\, Denmark
CATEGORIES:Introaftener
ATTACH;FMTTYPE=image/jpeg:https://manuvision.dk/wp-content/uploads/KalenderIntroAften-1.jpg
ORGANIZER;CN="Manuvision":MAILTO:info@manuvision.dk
END:VEVENT
BEGIN:VEVENT
DTSTART;TZID=Europe/Copenhagen:20260608T170000
DTEND;TZID=Europe/Copenhagen:20260608T193000
DTSTAMP:20260420T121819
CREATED:20260323T142239Z
LAST-MODIFIED:20260323T142331Z
UID:10005181-1780938000-1780947000@manuvision.dk
SUMMARY:Introaften - Manuvisions kropsterapi uddannelse Aarhus
DESCRIPTION:KOM TIL GRATIS INTROAFTEN OM MANUVISION UDDANNELSEN – holdstart januar 2027\nBliv klogere på\, hvordan krop og psyke hænger sammen.\nHør\, hvordan du bliver en dygtig kropsterapeut\, og hvordan vi ruster dig til en karriere som Manuvision kropsterapeut.\nSe\, hvordan vi arbejder med fysiske og psykiske udfordringer gennem kroppen.\nMød vores undervisere og få et indtryk af Manuvision huset\, hvor vi underviser\, behandler og træner.\nHvis du bliver efter mødet\, har du mulighed for at komme på briksen hos en af vores elever og få en forsmag på Manuvision kropsterapi. \nIntroaftenen er gratis\, men tilmelding er nødvendigt\, da vi har et begrænset antal pladser. \nVi serverer et let måltid og drikke undervejs. \nLæs mere om introaftener her
URL:https://manuvision.dk/begivenhed/introaften-manuvisions-kropsterapi-uddannelse-aarhus/2026-06-08/
LOCATION:Manuvision Aarhus\, Mejlgade\, over gården 28\, 1 sal\, Aarhus\, Region Midtjylland\, 8000\, Denmark
CATEGORIES:Begivenheder,Introaftener
ATTACH;FMTTYPE=image/jpeg:https://manuvision.dk/wp-content/uploads/KalenderIntroAften-1.jpg
ORGANIZER;CN="Manuvision":MAILTO:info@manuvision.dk
END:VEVENT
END:VCALENDAR